BEGIN:VCALENDAR
VERSION:2.0
PRODID:-//The Historic Preservation Alliance - ECPv6.3.1//NONSGML v1.0//EN
CALSCALE:GREGORIAN
METHOD:PUBLISH
X-WR-CALNAME:The Historic Preservation Alliance
X-ORIGINAL-URL:https://backupforevent.hpasprings.org
X-WR-CALDESC:Events for The Historic Preservation Alliance
REFRESH-INTERVAL;VALUE=DURATION:PT1H
X-Robots-Tag:noindex
X-PUBLISHED-TTL:PT1H
BEGIN:VTIMEZONE
TZID:America/Denver
BEGIN:DAYLIGHT
TZOFFSETFROM:-0700
TZOFFSETTO:-0600
TZNAME:MDT
DTSTART:20240310T090000
END:DAYLIGHT
BEGIN:STANDARD
TZOFFSETFROM:-0600
TZOFFSETTO:-0700
TZNAME:MST
DTSTART:20241103T080000
END:STANDARD
END:VTIMEZONE
BEGIN:VEVENT
DTSTART;TZID=America/Denver:20240701T180000
DTEND;TZID=America/Denver:20240701T193000
DTSTAMP:20260422T155435
CREATED:20220611T110820Z
LAST-MODIFIED:20231111T104722Z
UID:10038-1719856800-1719862200@backupforevent.hpasprings.org
SUMMARY:Summer Tour #1 - Redstone Castle
DESCRIPTION:TOUR UPDATE: THIS TOUR IS NOW FULL AND SIGN UP SHEETS ARE INACTIVE. THIS INCLUDES THE WAITLIST AS WELL. \nCheck in at 6:00 p.m and tours begin at 6:30pm \nFirst Congregational Church at 101 Pawnee Avenue\, Manitou Springs (just up the hill from the former Stagecoach Inn at the traffic light.)  Please wear closed-toe shoes. \nThis spectacular home was built by William A. Davis on the slope of Iron Mountain in Manitou Springs. He and his brother planned Manitou Terrace\, a large housing development that never materialized\, of which the castle was to be the model home. The castle itself was built from 1890-1892\, of Manitou red sandstone in a graceful design with a tower on the northeast and a swell front on the north. \nJohn Chapman did the stone work\, and Sam Yarnell did the wood work. Both men invested in the surrounding land of the proposed elite development. The house was completed at a cost of approximately $10\,000 ($316\,000 today). The original tract of land contained about 80 acres and included the summit of Iron Mountain. The house was built to attract attention to the Davis brothers’ subdivision\, but no lots were sold. W. A. Davis lived in the castle a while\, but there were long periods of time when the castle stood vacant. It was believed by many to have been haunted from the beginning. \nThe castle was leased in 1908 by Alice Crawford Snow\, who was an actress\, spiritualist\, and medium. Seances were held in the castle a couple of times a week\, and reportedly they would have tables and chairs moving all over the place\, and all sorts of sounds could be heard coming from different places.  The haunts add to the glamour and curiosity of the stone castle and Red Mountain\, and there are spectacular views of all of Manitou Springs\, the Garden of the Gods\, bright sunlight\, and gorgeous sunrises. \n___________________________ \nHPA Coordinator: Cathy Mundy \n___________________________ \nRedstone Castle Tour Guide:  Dan Stuart\, Castle Owner \nDan has owned the Redstone Castle for approximately 12 years\, and he has lived in Manitou Springs since 1979. He is a former mayor of Manitou Springs and is the current president of the AdAmAn Club.  We will tour the castle in groups of 15-20. \n___________________________ \nDirections: Take Manitou Avenue west to the stoplight at Pawnee Avenue.  Turn left\, then make another turn left just before the First Congregational Church at 103 Pawnee Ave. Turn right into the church parking lot.  We will check in and carpool from the parking lot up to the castle. \n___________________________ \nDisabled Access: yes\, 1st  floor only \n___________________________ \nBathrooms: yes; not handicapped accessible \nRESERVE HERE – IMPORTANT: ONE NAME ONLY PER RESERVATION ENTRY.  TO ADD ANOTHER PERSON (e.g. a spouse or friend)\, CLICK +ADD GUEST AND AN ADDITIONAL RESERVATION BOX WILL APPEAR.    
URL:https://backupforevent.hpasprings.org/event/summer-tour-1-redstone-castle/
CATEGORIES:Featured Events
ATTACH;FMTTYPE=image/jpeg:https://backupforevent.hpasprings.org/wp-content/uploads/2022/06/Redstone.jpg
END:VEVENT
BEGIN:VEVENT
DTSTART;TZID=America/Denver:20240710T183000
DTEND;TZID=America/Denver:20240710T193000
DTSTAMP:20260422T155435
CREATED:20210520T235808Z
LAST-MODIFIED:20231021T223033Z
UID:9629-1720636200-1720639800@backupforevent.hpasprings.org
SUMMARY:Summer Tours Series - #3 Middle Shooks Run
DESCRIPTION:Please note\, only one guest per ticket request submission.\nMiddle Shooks Run: Walking Tour of the North Junior High School and Its Immediate Neighborhood  \nDirections/ Parking: On-street parking is available on both sides of East Yampa between Corona Street and El Paso Street  \nThis will be a walk through early city history as we venture around the neighborhood that predated the 1923 North Junior High School\, one of three built with proceeds of a School District 11 bond issue. A variety of housing combined with a local market displays the history of an early residential suburb of Colorado Springs. The route will include several points of historical significance.  \nTour Guide: Tim Scanlon\, local historian \nHPA Coordinator: Al Rohr  \nRegistration begins: 6:00pm \nDisabled Access: Walk will be mostly level\, no steps \nRestrooms: None available 
URL:https://backupforevent.hpasprings.org/event/summer-tours-series-tour-3-middle-shooks-run-2/
CATEGORIES:imports
ATTACH;FMTTYPE=image/jpeg:https://backupforevent.hpasprings.org/wp-content/uploads/2022/01/SquareNight.jpeg
END:VEVENT
BEGIN:VEVENT
DTSTART;TZID=America/Denver:20240802T183000
DTEND;TZID=America/Denver:20240802T193000
DTSTAMP:20260422T155435
CREATED:20210521T000124Z
LAST-MODIFIED:20231021T222859Z
UID:5626-1722623400-1722627000@backupforevent.hpasprings.org
SUMMARY:Summer Tours Series - #4 Old Colorado City; Saints and Sinners
DESCRIPTION:THIS TOUR IS AT CAPACITY. WE ARE ACCEPTING REGISTRATIONS FOR A WAIT LIST. \nDirections/ Parking: Old Colorado City Historical Society\, 1 South 24th Street\, parking available by the building\, in free public parking lots or on-street.  \nColorado City has always been a city of diversity. Partial annexation into Colorado Springs left a mix of annexed and non-annexed parts to Old Colorado City. Colorado Avenue had upstanding businesses on the north side and saloons on the south side. Washington Avenue\, which became Cucharras Avenue\, had the most diverse people you will find anywhere – saints and sinners alike. This walking tour will take you through both sides of the story of Washington (the red-light district)\, and Cucharras (a religious school). You will learn the history of the seedier side to the pious side of one street that held two names and two diverse personalities. We will look at photographs of how it was and tell humorous stories from the ladies of the evening to the students of a strict religious school. We will talk about the buildings that remain and their purposes throughout the life of Old Colorado City and the west side. Bring your walking shoes and a water bottle. Expect to walk about an hour. The museum will be open before/ after tours.  \nPlease note\, one guest per sign up is requested in order to assure proper number of attendees.\n_______________________\nTour Guides: Susie Schorsch\, Leo Knudson\, Roberta Hardy\, members of the Old Colorado City Historical Society  \nHPA Coordinator: Ann Brock \nRegistration begins: 6:00pm \nDisabled Access: Yes  \nRestrooms: In Old Colorado City Historical Society Building or in Bancroft Park 
URL:https://backupforevent.hpasprings.org/event/summer-tours-tour-4-old-colorado-city-saints-and-sinners/
CATEGORIES:imports
ATTACH;FMTTYPE=image/jpeg:https://backupforevent.hpasprings.org/wp-content/uploads/2022/01/Peel_Horizontal.jpg
END:VEVENT
BEGIN:VEVENT
DTSTART;TZID=America/Denver:20240805T183000
DTEND;TZID=America/Denver:20240805T193000
DTSTAMP:20260422T155435
CREATED:20210521T001340Z
LAST-MODIFIED:20231021T222826Z
UID:5638-1722882600-1722886200@backupforevent.hpasprings.org
SUMMARY:REGISTRATION NOW CLOSED! Summer Tours Series - #7 Pikeview Quarry
DESCRIPTION:Please note\, only one guest per ticket request submission.\nThe Pikeview Quarry opened in 1905 and has provided limestone for numerous downtown buildings\, the Air Force Academy and I-25 along with providing gravel and concrete for local construction. We will learn about its history and its important role as a fire break during the Waldo Canyon fire in 2012. Reclamation plans are underway to develop it into a world class bike park and to turn over to the city. \nDirections/ Parking: Northwest Colorado Springs\, Rockrimmon area. Go north on Centennial Boulevard past Vindicator Drive to the 4-way stop at Allegheny Drive and turn left. Follow Allegheny until you come to Pikeview Quarry Road. Bear to your left and proceed onto quarry land. Parking assistance will be provided from there.  \nBBQ dinner at 5:30 PM (pre-register for both @ www.hpasprings.org/events). Please bring your own lawn chair. No charge for the dinner\, which is optional. The quarry needs an accurate number for ordering food. Register online separately for the tour. Check-in begins at 6:00 for a maximum of 60 on the tour.  \nOur attire for the evening should be long pants\, long sleeves\, and sturdy closed-toe shoes or hiking boots. Hiking poles are also suggested. Bring water and expect wind and dust.  \nFor those who are interested\, there will be ATVs to take people on a 30-minute loop ride through the quarry. The views of the city are beautiful from any vantage point. We may get lucky and see some of the herd of 65 bighorn sheep who live up at the top of the quarry.  \n___________________________ \nTour Guides: Jerry Schnabel (there may be a few others\, TBD) \nHPA Coordinator: Carol Beans \nRegistration begins at: 6:00pm \nDisabled Access: All areas may not be accessible      Restrooms: Available at the Scale House
URL:https://backupforevent.hpasprings.org/event/summer-tour-tour-7-pikeview-quarry/
CATEGORIES:imports
ATTACH;FMTTYPE=image/jpeg:https://backupforevent.hpasprings.org/wp-content/uploads/2022/01/UPH-historic-4.jpg
END:VEVENT
END:VCALENDAR